BEGIN:VCALENDAR
VERSION:2.0
PRODID:-//Camera Civile Brescia - ECPv5.8.1//NONSGML v1.0//EN
CALSCALE:GREGORIAN
METHOD:PUBLISH
X-WR-CALNAME:Camera Civile Brescia
X-ORIGINAL-URL:https://cameracivilebrescia.it
X-WR-CALDESC:Eventi per Camera Civile Brescia
BEGIN:VTIMEZONE
TZID:Europe/Rome
BEGIN:DAYLIGHT
TZOFFSETFROM:+0100
TZOFFSETTO:+0200
TZNAME:CEST
DTSTART:20260329T010000
END:DAYLIGHT
BEGIN:STANDARD
TZOFFSETFROM:+0200
TZOFFSETTO:+0100
TZNAME:CET
DTSTART:20261025T010000
END:STANDARD
END:VTIMEZONE
BEGIN:VEVENT
DTSTART;TZID=Europe/Rome:20260424T150000
DTEND;TZID=Europe/Rome:20260424T180000
DTSTAMP:20260424T012856
CREATED:20260423T095148Z
LAST-MODIFIED:20260423T095209Z
UID:7407-1777042800-1777053600@cameracivilebrescia.it
SUMMARY:Tutele del lavoro e contratto collettivo applicabile nel codice dei contratti pubblici
DESCRIPTION:Tutele del lavoro e contratto collettivo applicabile nel codice dei contratti pubblici\n  \n24 Aprile 2026 \nTribunale di Brescia • aula Campanato \nore 15 – 18 \nsaluti introduttivi \nAGI Lombardia e Camera Civile di Brescia \ndott.ssa Martina Arrivi • magistrato del Consiglio di Stato\nprof. avv. Mario Gorlani • ordinario di Diritto pubblico – Università degli Studi di Brescia\nprof. Giuseppe Ludovico • associato di Diritto del lavoro – Università Statale di Milano \nmodera \navv.ta Francesca Apostoli • Foro di Brescia
URL:https://cameracivilebrescia.it/evento/tutele-del-lavoro-e-contratto-collettivo-applicabile-nel-codice-dei-contratti-pubblici/
ATTACH;FMTTYPE=image/jpeg:https://cameracivilebrescia.it/wp-content/uploads/2026/04/2026.04.24-locandina-Tutele-del-lavoro-e-contratto-collettivo-scaled.jpg
END:VEVENT
BEGIN:VEVENT
DTSTART;TZID=Europe/Rome:20260514T150000
DTEND;TZID=Europe/Rome:20260514T170000
DTSTAMP:20260424T012856
CREATED:20260423T094827Z
LAST-MODIFIED:20260423T094827Z
UID:7404-1778770800-1778778000@cameracivilebrescia.it
SUMMARY:La tutela delle invenzioni
DESCRIPTION:La tutela delle invenzioni\n  \n14 maggio 2026 \nUniversità degli Studi di Brescia • Dipartimento di Giurisprudenza\nBrescia\, c.so Mameli 27 • aula Falcone Borsellino\nore 15 – 17 \nTitolarità delle invenzioni dei ricercatori e dei dipendenti: inquadramento normativo e profili giurisprudenziali\navv. Magali Contardi • Foro di Milano \nTutela del software: brevetto\, know-how e altri diritti IP\ning. Antonio Di Bernardo • Thinx s.r.l. \nMateria brevettabile e intelligenza artificiale\nprof. Massimiliano Granieri • Università degli Studi di Brescia \nmoderano \nprof. avv. Elisabetta Fusar Poli • Università degli Studi di Brescia\navv. Elena Martini • Studio Martini Manna & Partners\, responsabile della sede AIPPI di Brescia
URL:https://cameracivilebrescia.it/evento/la-tutela-delle-invenzioni/
ATTACH;FMTTYPE=image/jpeg:https://cameracivilebrescia.it/wp-content/uploads/2026/04/2026.05.14-locandina-La-tutela-delle-invenzioni-scaled.jpg
END:VEVENT
BEGIN:VEVENT
DTSTART;TZID=Europe/Rome:20260612T150000
DTEND;TZID=Europe/Rome:20260612T180000
DTSTAMP:20260424T012856
CREATED:20260423T095524Z
LAST-MODIFIED:20260423T095524Z
UID:7410-1781276400-1781287200@cameracivilebrescia.it
SUMMARY:Rapporti di lavoro e segmentazione dei cicli produttivi
DESCRIPTION:Rapporti di lavoro e segmentazione dei cicli produttivi\n  \n12 Giugno 2026 \nCentro Paolo VI • aula Franceschetti\nBrescia\, via Gezio Calini 30 \nore 15 – 18 \nsaluti introduttivi \nAGI Lombardia e Camera Civile di Brescia \ndott.ssa Daniela Paliaga • presidente del Tribunale di Torino\, sez. lavoro\nprof. avv. Andrea Bollani • ordinario di Diritto del lavoro – Università degli Studi di Pavia\nprof. avv. Franco Scarpelli • ordinario di Diritto del lavoro – Università Statale di Milano\navv.ta Carla Ghitti • Foro di Brescia – Ph.D. \nmodera \navv. Andrea Sterli • Foro di Brescia
URL:https://cameracivilebrescia.it/evento/rapporti-di-lavoro-e-segmentazione-dei-cicli-produttivi/
ATTACH;FMTTYPE=image/jpeg:https://cameracivilebrescia.it/wp-content/uploads/2026/04/2026.06.12-locandina-Rapporti-di-lavoro-e-segmentazione-dei-cicli-produttivi-scaled.jpg
END:VEVENT
END:VCALENDAR