BEGIN:VCALENDAR
VERSION:2.0
PRODID:-//Camera Civile Brescia - ECPv5.8.1//NONSGML v1.0//EN
CALSCALE:GREGORIAN
METHOD:PUBLISH
X-WR-CALNAME:Camera Civile Brescia
X-ORIGINAL-URL:https://cameracivilebrescia.it
X-WR-CALDESC:Eventi per Camera Civile Brescia
BEGIN:VTIMEZONE
TZID:Europe/Rome
BEGIN:DAYLIGHT
TZOFFSETFROM:+0100
TZOFFSETTO:+0200
TZNAME:CEST
DTSTART:20220327T010000
END:DAYLIGHT
BEGIN:STANDARD
TZOFFSETFROM:+0200
TZOFFSETTO:+0100
TZNAME:CET
DTSTART:20221030T010000
END:STANDARD
END:VTIMEZONE
BEGIN:VEVENT
DTSTART;TZID=Europe/Rome:20221025T143000
DTEND;TZID=Europe/Rome:20221025T163000
DTSTAMP:20260425T130443
CREATED:20220913T090923Z
LAST-MODIFIED:20221025T090922Z
UID:5316-1666708200-1666715400@cameracivilebrescia.it
SUMMARY:Legal marketing dal sito web al social network: limiti\, prospettive e sfide
DESCRIPTION:Limiti\, prospettive e sfide future della pubblicità degli avvocati sul web\n\n\nAccreditato dal COA di Brescia con 1 credito in informatica giuridica e 1 in ordinamento deontologico. \n \nRELATORI: \nElia Barbujani • avvocato del foro di Bologna \nAlessandro Benvegnù • avvocato del foro di Torino \nAlberto Caschili • imprenditore in servizi legali digitali \nPaola Parigi • consulente marketing \nRoberto Rota • avvocato del foro di Lodi\, componente del CDD di Milano \n \nI﻿NTRODUCONO E MODERANO \nGiulia Bolgiani • avvocato del foro di Brescia \nLuigi Cristiano • avvocato del foro di Brescia \n \n\n\nRicorda di entrare nella riunione con il tuo nome e cognome per esteso: ci è necessario per verificare la tua identità e la tua connessone costante durante l’evento. È condizione per il riconoscimento dei crediti formativi. \nAccedi all’evento puntualmente. I crediti non saranno riconosciuti se l’accesso avviene più di un quarto d’ora dopo l’orario previsto per l’inizio della videoconferenza. \nSe non sei ancora socio\, iscrivendoti dichiari di aver letto e compreso l’informativa sul trattamento dei dati personali della Camera Civile di Brescia.
URL:https://cameracivilebrescia.it/evento/legal-marketing-dal-sito-web-al-social-network-limiti-prospettive-e-sfide/
ATTACH;FMTTYPE=image/jpeg:https://cameracivilebrescia.it/wp-content/uploads/2022/09/5316_image-scaled.jpg
END:VEVENT
END:VCALENDAR