BEGIN:VCALENDAR
VERSION:2.0
PRODID:-//Camera Civile Brescia - ECPv5.8.1//NONSGML v1.0//EN
CALSCALE:GREGORIAN
METHOD:PUBLISH
X-WR-CALNAME:Camera Civile Brescia
X-ORIGINAL-URL:https://cameracivilebrescia.it
X-WR-CALDESC:Eventi per Camera Civile Brescia
BEGIN:VTIMEZONE
TZID:Europe/Rome
BEGIN:DAYLIGHT
TZOFFSETFROM:+0100
TZOFFSETTO:+0200
TZNAME:CEST
DTSTART:20210328T010000
END:DAYLIGHT
BEGIN:STANDARD
TZOFFSETFROM:+0200
TZOFFSETTO:+0100
TZNAME:CET
DTSTART:20211031T010000
END:STANDARD
END:VTIMEZONE
BEGIN:VEVENT
DTSTART;TZID=Europe/Rome:20210513T150000
DTEND;TZID=Europe/Rome:20210513T170000
DTSTAMP:20260424T185043
CREATED:20210819T091523Z
LAST-MODIFIED:20210819T091523Z
UID:4332-1620918000-1620925200@cameracivilebrescia.it
SUMMARY:Tutela del credito e vicende successorie
DESCRIPTION:Tutela del credito e vicende successorie: un importante approfondimento.\n\n\nRELATORI E INTERVENTI: \nAccettazione beneficiata dell’eredità e modalità di soddisfazione dei creditori\n \nChiara Lanzani • notaio in Concesio (BS)\n \nDestinazione patrimoniale e autonomia testamentaria\n \nFederico Canazza • avvocato del foro di Torino\n \nLa tutela dei creditori del legittimario\n \nIvan Libero Nocera • professore a contratto e assegnista di ricerca presso l’Università degli Studi di Brescia \nL’evento è in corso di accreditamento presso il Consiglio dell’Ordine degli Avvocati di Brescia. \n\n\nRicorda di iscriverti e di entrare nella riunione con il tuo nome e cognome per esteso: ci è necessario per verificare la tua identità e la tua connessone costante durante l’evento. È condizione per il riconoscimento dei crediti formativi.\n \nAccedi all’evento puntualmente. I crediti non saranno riconosciuti se l’accesso avviene più di un quarto d’ora dopo l’orario previsto per l’inizio della videoconferenza.
URL:https://cameracivilebrescia.it/evento/tutela-del-credito-e-vicende-successorie/
ATTACH;FMTTYPE=image/png:https://cameracivilebrescia.it/wp-content/uploads/2021/08/4332_image.png
END:VEVENT
END:VCALENDAR